BEGIN:VCALENDAR
VERSION:2.0
PRODID:-//wp-events-plugin.com//6.6.4.4//EN
TZID:Europe/Stockholm
X-WR-TIMEZONE:Europe/Stockholm
BEGIN:VEVENT
UID:8@energicentrum.se
DTSTART;TZID=Europe/Stockholm:20250604T130000
DTEND;TZID=Europe/Stockholm:20250604T160000
DTSTAMP:20250507T125530Z
URL:https://energicentrum.se/events/traffa-oss-och-bygglovavdelningen-i-jo
 nkoping/
SUMMARY:Träffa oss och bygglovavdelningen i Jönköping
DESCRIPTION:En gång i månaden öppnar bygglovsavdelningen upp för person
 lig rådgivning på plats i Juneporten. Passa på att ställ din fråga in
 för ett bygglov eller en anmälan\, till exempel:\n\n 	Vad gäller för j
 ust min fastighet?\n 	Hur mycket får jag bygga?\n 	Hur gör jag en ansök
 an?\n 	Vilka handlingar ska jag skicka in?\n\nBoka din tid genom kommunens
  E-tjänst\n\nTill oss energi- och klimatrådgivare går det bra med drop-
 in\, ingen tidsbokning behövs.
ATTACH;FMTTYPE=image/jpeg:https://energicentrum.se/wp-content/uploads/2023
 /10/Hus-landet2-scaled-e1696407390687.jpg
LOCATION:https://www.jonkoping.se/bygga-bo--miljo/bygglov-marklov-och-anmal
 an/kontakta-bygglovavdelningen
END:VEVENT
BEGIN:VTIMEZONE
TZID:Europe/Stockholm
X-LIC-LOCATION:Europe/Stockholm
BEGIN:DAYLIGHT
DTSTART:20250330T030000
TZOFFSETFROM:+0100
TZOFFSETTO:+0200
TZNAME:CEST
END:DAYLIGHT
END:VTIMEZONE
END:VCALENDAR